BEGIN:VCALENDAR
VERSION:2.0
PRODID:-//https://www.evident.org.au///NONSGML kigkonsult.se iCalcreator 2.10.15//
METHOD:PUBLISH
BEGIN:VEVENT
UID:20260421T151246UTC-3140O1OXGT@https://www.evident.org.au/
DTSTAMP:20260421T151246Z
DESCRIPTION:Don't miss out on eviDent’s next adventure hike!\n17-20 March 2
 023*&nbsp\;Wilsons Promontory National Park\nImmerse yourself in the peace
 ful surrounds of nature\, whilst supporting the eviDent Foundation’s goal 
 for better oral health. Everyone will be smiling!\nEnjoy the beautiful Sou
 thern Prom Circuit trail\, weaving through rainforests to the sublime whit
 e sandy beaches and crystal-clear waters of Wilsons Promontory.\nJoin coll
 eagues and friends in this unforgettable opportunity!\nDownload the brochu
 re\nRegister\nContact\nProudly supported by&nbsp\;\n*Friday arrival\, walk
  starts on Saturday\, finishing on Monday.\n&nbsp\;\nHere’s what others ha
 ve said about their experience hiking with the eviDent team:\nThis was not
  my first eviDent adventure and will not be my last.&nbsp\;Jodie\nI've bee
 n to most of the eviDent's hiking challenges so far\, but this year I conv
 inced my non-hiking wife\, Cintia to come along - a challenge in itself…We
  had a wonderful experience along with a great bunch of people. The hike w
 as organized really well from start to finish by the eviDent team\, who al
 so assisted with our fundraising efforts. It is great to know that collect
 ively we raised enough money to support at least two eviDent studies – wel
 l done team! We are already looking forward to next year - both of us beli
 eve it or not!&nbsp\;Andre\nVery good opportunities to embrace nature and 
 hang around with peers\, very enjoyable and safe hiking experience. This i
 s my first time ever hiking and I will be back next year!&nbsp\;Ivan\nThan
 k you to the eviDent Foundation for such great organisation\, and also to 
 the amazing support team. It was a privilege to spend the 4 days with my f
 ellow walkers and experience the care and respect shown by everyone.&nbsp\
 ;Mary https://www.evident.org.au/get-involved/events/event/103-reach-the-b
 each-for-smiles-and-teeth
DTSTART:20230317T060000Z
DTEND:20230320T060000Z
LOCATION:Wilsons Promontory National Park (Wilsons Promontory National Park
 \, Gippsland VIC 3960\, Australia)
SUMMARY:Reach the Beach for Smiles and Teeth
URL:https://www.evident.org.au/get-involved/events/event/103-reach-the-beac
 h-for-smiles-and-teeth
END:VEVENT
END:VCALENDAR
