BEGIN:VCALENDAR
VERSION:2.0
PRODID:-//https://www.evident.org.au///NONSGML kigkonsult.se iCalcreator 2.10.15//
METHOD:PUBLISH
BEGIN:VEVENT
UID:20260421T165129UTC-6650eINrcO@https://www.evident.org.au/
DTSTAMP:20260421T165129Z
DESCRIPTION:Collaborate to translate: bridging the gap between scientific r
 esearch and clinical practice.\nThursday 16 February 2023&nbsp\; |&nbsp\; 
 6pm - 9pm&nbsp\; |&nbsp\; Morgan Stanley&nbsp\; |&nbsp\; Level 14/120 Coll
 ins St\, Melbourne VIC 3000\nThis year's program includes:\n\nEvidence bas
 ed research findings that inform practice and policy\nCollaborations with 
 the University of Melbourne\nHave we got a project for you?!\nRefreshments
  and networking\n\nWe look forward to sharing our latest news and project 
 highlights with you at a relaxed and interactive evening.\nCPD: 1.5 hour s
 cientific&nbsp\;\nView the program\nI can’t attend\, but I’d like to donat
 e:\nDonate https://www.evident.org.au/get-involved/events/event/104-2023-r
 esearch-showcase
DTSTART:20230216T070000Z
DTEND:20230216T100000Z
LOCATION:Morgan Stanley (Level 14/120 Collins St\, Melbourne VIC 3000\, Aus
 tralia)
SUMMARY:2023 Research Showcase
URL:https://www.evident.org.au/get-involved/events/event/104-2023-research-
 showcase
END:VEVENT
END:VCALENDAR
