BEGIN:VCALENDAR
VERSION:2.0
PRODID:-//https://www.evident.org.au///NONSGML kigkonsult.se iCalcreator 2.10.15//
METHOD:PUBLISH
BEGIN:VEVENT
UID:20260421T151139UTC-5609ddF4Vg@https://www.evident.org.au/
DTSTAMP:20260421T151139Z
DESCRIPTION:\nNothing you wear is more important than your smile\, and yet 
 the impacts of oral disease are significant but often overlooked.&nbsp\;\n
 Tea for Teeth is an easy and fun way to raise money to make a big differen
 ce to Australia’s oral health.\nHost a morning or afternoon tea in August\
 , to raise money to help eviDent continue its valuable research to improve
  the oral health of all Australians.\nRegister to host your Tea for Teeth
 \nPlease note: Tea for Teeth can only be held in VIC\, TAS\, SA\, QLD\, NS
 W and WA. https://www.evident.org.au/get-involved/events/event/107-2023-te
 a-for-teeth
DTSTART:20230806T220000Z
DTEND:20230813T080000Z
LOCATION:Melbourne ()
SUMMARY:2023 Tea for Teeth
URL:https://www.evident.org.au/get-involved/events/event/107-2023-tea-for-t
 eeth
END:VEVENT
END:VCALENDAR
